BEGIN:VCALENDAR
VERSION:2.0
PRODID:-//Aktive Dorfzeit Bortewitz e.V. - ECPv6.15.20//NONSGML v1.0//EN
CALSCALE:GREGORIAN
METHOD:PUBLISH
X-ORIGINAL-URL:https://aktive-dorfzeit.de
X-WR-CALDESC:Veranstaltungen für Aktive Dorfzeit Bortewitz e.V.
REFRESH-INTERVAL;VALUE=DURATION:PT1H
X-Robots-Tag:noindex
X-PUBLISHED-TTL:PT1H
BEGIN:VTIMEZONE
TZID:UTC
BEGIN:STANDARD
TZOFFSETFROM:+0000
TZOFFSETTO:+0000
TZNAME:UTC
DTSTART:20230101T000000
END:STANDARD
END:VTIMEZONE
BEGIN:VEVENT
DTSTART;TZID=UTC:20251129T150000
DTEND;TZID=UTC:20251129T190000
DTSTAMP:20260419T134604
CREATED:20251119T082822Z
LAST-MODIFIED:20251119T083628Z
UID:295-1764428400-1764442800@aktive-dorfzeit.de
SUMMARY:Traditionelles Weihnachtsbaumstellen an der FFW
DESCRIPTION:Am 29.11.2025 findet unser tradionelles Weihnachtsbaumstellen mit Glühwein\, Stollen und selbst gebackenen Plätzchen am und im Gerätehaus der FFW Bortewitz statt. \nBitte für die Heißgetränke eine eigene Tasse mitbringen.
URL:https://aktive-dorfzeit.de/event/traditionelles-weihnachtsbaumstellen-an-der-ffw/
LOCATION:Feuerwehrhaus der Freiwilligen Feuerwehr Bortewitz\, Hauptstraße 6b\, Bortewitz\, 04774\, Germany
END:VEVENT
BEGIN:VEVENT
DTSTART;TZID=UTC:20251107T170000
DTEND;TZID=UTC:20251107T210000
DTSTAMP:20260419T134604
CREATED:20251107T144231Z
LAST-MODIFIED:20251107T144422Z
UID:286-1762534800-1762549200@aktive-dorfzeit.de
SUMMARY:Vollversammlung des Vereins "Aktive Dorfzeit e.V."
DESCRIPTION:Am 07.11.2025 findet die Vollversammlung des Vereins im Feuerwehrgerätehaus in Börln statt.
URL:https://aktive-dorfzeit.de/event/vollversammlung-des-vereins-aktive-dorfzeit-e-v/
END:VEVENT
BEGIN:VEVENT
DTSTART;TZID=UTC:20250920T080000
DTEND;TZID=UTC:20250920T130000
DTSTAMP:20260419T134604
CREATED:20251107T143858Z
LAST-MODIFIED:20251107T143858Z
UID:284-1758355200-1758373200@aktive-dorfzeit.de
SUMMARY:Arbeitseinsatz/Teichberäumung
DESCRIPTION:Am.09.2025 findet wieder unser jährlicher Arbeitseinsatz zum Beräumen des Teiches und der umliegenden Flächen statt.
URL:https://aktive-dorfzeit.de/event/arbeitseinsatz-teichberaeumung/
LOCATION:Feuerwehrhaus der Freiwilligen Feuerwehr Bortewitz\, Hauptstraße 6b\, Bortewitz\, 04774\, Germany
END:VEVENT
BEGIN:VEVENT
DTSTART;TZID=UTC:20250614T183000
DTEND;TZID=UTC:20250615T170000
DTSTAMP:20260419T134604
CREATED:20250521T083353Z
LAST-MODIFIED:20250521T083353Z
UID:259-1749925800-1750006800@aktive-dorfzeit.de
SUMMARY:Festtage zu 125 Jahre Freiwillige Feuerwehr Bortewitz und 25 Jahre Jugendfeuerwehr
DESCRIPTION:Am 14.06.2025 und am 15.06.2025 feiern wir das 125jährige Bestehen unserer Freiwilligen Feuerwehr. Vor 25 Jahren wurde darüber hinaus unsere Jugendfeuerwehr gegründet. An den beiden Festtagen werden wir diese besonderen Jubiläen mit einem umfangreichen Programm begehen. \n \nDie Anfahrt zum Festplatz gibt es >>hier<< \n 
URL:https://aktive-dorfzeit.de/event/festtage-zu-125-jahre-freiwillige-feuerwehr-bortewitz-und-25-jahre-jugendfeuerwehr/
LOCATION:Festplatz der FFW Bortewitz
END:VEVENT
BEGIN:VEVENT
DTSTART;TZID=UTC:20240906T190000
DTEND;TZID=UTC:20240906T210000
DTSTAMP:20260419T134604
CREATED:20240903T145139Z
LAST-MODIFIED:20240903T145139Z
UID:204-1725649200-1725656400@aktive-dorfzeit.de
SUMMARY:Gründungsversammlung des Vereins "Aktive Dorfzeit Bortewitz e.V."
DESCRIPTION:
URL:https://aktive-dorfzeit.de/event/gruendungsversammlung-des-vereins-aktive-dorfzeit-bortewitz-e-v/
LOCATION:Feuerwehrhaus der Freiwilligen Feuerwehr Bortewitz\, Hauptstraße 6b\, Bortewitz\, 04774\, Germany
CATEGORIES:Aktive Dorfzeit Bortewitz
ATTACH;FMTTYPE=image/jpeg:https://aktive-dorfzeit.de/wp-content/uploads/2024/08/43c01935ab155f7ba29ed7d427714288130689a0.jpg
END:VEVENT
BEGIN:VEVENT
DTSTART;TZID=UTC:20240901T073000
DTEND;TZID=UTC:20240901T110000
DTSTAMP:20260419T134604
CREATED:20240830T134917Z
LAST-MODIFIED:20240830T152159Z
UID:185-1725175800-1725188400@aktive-dorfzeit.de
SUMMARY:Gemeinsamer Dienst mit den den Kameraden der FFW Ochsensaal
DESCRIPTION:
URL:https://aktive-dorfzeit.de/event/gemeinsamer-dienst-mit-den-den-kameraden-der-ffw-ochsensaal/
LOCATION:Feuerwehrhaus der Freiwilligen Feuerwehr Bortewitz\, Hauptstraße 6b\, Bortewitz\, 04774\, Germany
CATEGORIES:Freiwillige Feuerwehr Bortewitz
END:VEVENT
END:VCALENDAR